BEGIN:VCALENDAR
VERSION:2.0
PRODID:-//Manningtree High School - ECPv6.15.20//NONSGML v1.0//EN
CALSCALE:GREGORIAN
METHOD:PUBLISH
X-WR-CALNAME:Manningtree High School
X-ORIGINAL-URL:https://www.manningtreehigh.com
X-WR-CALDESC:Events for Manningtree High School
REFRESH-INTERVAL;VALUE=DURATION:PT1H
X-Robots-Tag:noindex
X-PUBLISHED-TTL:PT1H
BEGIN:VTIMEZONE
TZID:UTC
BEGIN:STANDARD
TZOFFSETFROM:+0000
TZOFFSETTO:+0000
TZNAME:UTC
DTSTART:20250101T000000
END:STANDARD
END:VTIMEZONE
BEGIN:VEVENT
DTSTART;TZID=UTC:20260709T150000
DTEND;TZID=UTC:20260709T200000
DTSTAMP:20260420T030931
CREATED:20250721T093015Z
LAST-MODIFIED:20250721T093015Z
UID:8793-1783609200-1783627200@www.manningtreehigh.com
SUMMARY:Sports Awards
DESCRIPTION:
URL:https://www.manningtreehigh.com/event/sports-awards/
CATEGORIES:Dates For Your diary
END:VEVENT
END:VCALENDAR